BEGIN:VCALENDAR
VERSION:2.0
PRODID:-//eventon.com NONSGML v1.0//EN
CALSCALE:GREGORIAN
METHOD:PUBLISH
BEGIN:VEVENT
UID:69e7065794190
DTSTAMP:20260421T050839Z
DTSTART:20260421T190000Z
DTEND:20260421T225900Z
LOCATION:
SUMMARY:Edgeley Growth Team
DESCRIPTION:Growth teams are a place where members of our church family can
  grow in discipleship together. This growth primarily involves deepening ou
 r understanding and appreciation of the bible but also includes growing in 
 our relationships with one another\,  in our corporate prayer life\,  in ou
 r pastoral support of one another\, [..]\nhttps://www.christchurchstockport
 .com/events/edgeley-growth-team-2/var/ri-1.l-L1
URL:https://www.christchurchstockport.com/events/edgeley-growth-team-2/var/ri-1.l-L1
END:VEVENT
END:VCALENDAR