BEGIN:VCALENDAR
VERSION:2.0
PRODID:-//eventon.com NONSGML v1.0//EN
CALSCALE:GREGORIAN
METHOD:PUBLISH
BEGIN:VEVENT
UID:69e76d3c7dea4
DTSTAMP:20260421T122740Z
DTSTART:20260419T093000Z
DTEND:20260419T225900Z
LOCATION:Walthew House Walthew House\,  112 Shaw Heath\,  Stockport SK2 6QS
SUMMARY:Church Meeting
DESCRIPTION:We meet at 10:30am and services last around 75 minutes and will
  involve singing\,  praying\,  hearing the Bible read and taught. Once a mo
 nth we take communion to remember Jesus’ death in our place. On these Sun
 days the service may last 10 minutes longer. For those unable to attend in[
 ..]\nhttps://www.christchurchstockport.com/events/church-meeting/var/ri-1.l
 -L1
URL:https://www.christchurchstockport.com/events/church-meeting/var/ri-1.l-L1
END:VEVENT
END:VCALENDAR